BEGIN:VCALENDAR
VERSION:2.0
PRODID:https://www.kufer.de/kuferweb / DE
METHOD:PUBLISH
CALSCALE:GREGORIAN
X-WR-TIMEZONE:Europe/Berlin
BEGIN:VTIMEZONE
TZID:Europe/Berlin
X-LIC-LOCATION:Europe/Berlin
BEGIN:DAYLIGHT
TZOFFSETFROM:+0100
TZOFFSETTO:+0200
TZNAME:CEST
DTSTART:19700329T020000
RRULE:FREQ=YEARLY;INTERVAL=1;BYDAY=-1SU;BYMONTH=3
END:DAYLIGHT
BEGIN:STANDARD
TZOFFSETFROM:+0200
TZOFFSETTO:+0100
TZNAME:CET
DTSTART:19701025T030000
RRULE:FREQ=YEARLY;INTERVAL=1;BYDAY=-1SU;BYMONTH=10
END:STANDARD
END:VTIMEZONE
BEGIN:VEVENT
DTSTAMP:20260423T102839
DTSTART;TZID=Europe/Berlin:20260304T081500
DTEND;TZID=Europe/Berlin:20260304T091500
UID:26F12325N-20260304T081500@FBSWAIBLINGEN E.V.
SUMMARY:Aquafitness mit Musik (26F12325N) 
LOCATION:Hallenbad, Weinstadt-Strümpfelbach, Abendrain 2, , 
END:VEVENT
BEGIN:VEVENT
DTSTAMP:20260423T102839
DTSTART;TZID=Europe/Berlin:20260311T081500
DTEND;TZID=Europe/Berlin:20260311T091500
UID:26F12325N-20260311T081500@FBSWAIBLINGEN E.V.
SUMMARY:Aquafitness mit Musik (26F12325N) 
LOCATION:Hallenbad, Weinstadt-Strümpfelbach, Abendrain 2, , 
END:VEVENT
BEGIN:VEVENT
DTSTAMP:20260423T102839
DTSTART;TZID=Europe/Berlin:20260318T081500
DTEND;TZID=Europe/Berlin:20260318T091500
UID:26F12325N-20260318T081500@FBSWAIBLINGEN E.V.
SUMMARY:Aquafitness mit Musik (26F12325N) 
LOCATION:Hallenbad, Weinstadt-Strümpfelbach, Abendrain 2, , 
END:VEVENT
BEGIN:VEVENT
DTSTAMP:20260423T102839
DTSTART;TZID=Europe/Berlin:20260325T081500
DTEND;TZID=Europe/Berlin:20260325T091500
UID:26F12325N-20260325T081500@FBSWAIBLINGEN E.V.
SUMMARY:Aquafitness mit Musik (26F12325N) 
LOCATION:Hallenbad, Weinstadt-Strümpfelbach, Abendrain 2, , 
END:VEVENT
BEGIN:VEVENT
DTSTAMP:20260423T102839
DTSTART;TZID=Europe/Berlin:20260415T081500
DTEND;TZID=Europe/Berlin:20260415T091500
UID:26F12325N-20260415T081500@FBSWAIBLINGEN E.V.
SUMMARY:Aquafitness mit Musik (26F12325N) 
LOCATION:Hallenbad, Weinstadt-Strümpfelbach, Abendrain 2, , 
END:VEVENT
BEGIN:VEVENT
DTSTAMP:20260423T102839
DTSTART;TZID=Europe/Berlin:20260422T081500
DTEND;TZID=Europe/Berlin:20260422T091500
UID:26F12325N-20260422T081500@FBSWAIBLINGEN E.V.
SUMMARY:Aquafitness mit Musik (26F12325N) 
LOCATION:Hallenbad, Weinstadt-Strümpfelbach, Abendrain 2, , 
END:VEVENT
BEGIN:VEVENT
DTSTAMP:20260423T102839
DTSTART;TZID=Europe/Berlin:20260429T081500
DTEND;TZID=Europe/Berlin:20260429T091500
UID:26F12325N-20260429T081500@FBSWAIBLINGEN E.V.
SUMMARY:Aquafitness mit Musik (26F12325N) 
LOCATION:Hallenbad, Weinstadt-Strümpfelbach, Abendrain 2, , 
END:VEVENT
BEGIN:VEVENT
DTSTAMP:20260423T102839
DTSTART;TZID=Europe/Berlin:20260610T081500
DTEND;TZID=Europe/Berlin:20260610T091500
UID:26F12325N-20260610T081500@FBSWAIBLINGEN E.V.
SUMMARY:Aquafitness mit Musik (26F12325N) 
LOCATION:Hallenbad, Weinstadt-Strümpfelbach, Abendrain 2, , 
END:VEVENT
BEGIN:VEVENT
DTSTAMP:20260423T102839
DTSTART;TZID=Europe/Berlin:20260617T081500
DTEND;TZID=Europe/Berlin:20260617T091500
UID:26F12325N-20260617T081500@FBSWAIBLINGEN E.V.
SUMMARY:Aquafitness mit Musik (26F12325N) 
LOCATION:Hallenbad, Weinstadt-Strümpfelbach, Abendrain 2, , 
END:VEVENT
BEGIN:VEVENT
DTSTAMP:20260423T102839
DTSTART;TZID=Europe/Berlin:20260624T081500
DTEND;TZID=Europe/Berlin:20260624T091500
UID:26F12325N-20260624T081500@FBSWAIBLINGEN E.V.
SUMMARY:Aquafitness mit Musik (26F12325N) 
LOCATION:Hallenbad, Weinstadt-Strümpfelbach, Abendrain 2, , 
END:VEVENT
BEGIN:VEVENT
DTSTAMP:20260423T102839
DTSTART;TZID=Europe/Berlin:20260701T081500
DTEND;TZID=Europe/Berlin:20260701T091500
UID:26F12325N-20260701T081500@FBSWAIBLINGEN E.V.
SUMMARY:Aquafitness mit Musik (26F12325N) 
LOCATION:Hallenbad, Weinstadt-Strümpfelbach, Abendrain 2, , 
END:VEVENT
BEGIN:VEVENT
DTSTAMP:20260423T102839
DTSTART;TZID=Europe/Berlin:20260708T081500
DTEND;TZID=Europe/Berlin:20260708T091500
UID:26F12325N-20260708T081500@FBSWAIBLINGEN E.V.
SUMMARY:Aquafitness mit Musik (26F12325N) 
LOCATION:Hallenbad, Weinstadt-Strümpfelbach, Abendrain 2, , 
END:VEVENT
BEGIN:VEVENT
DTSTAMP:20260423T102839
DTSTART;TZID=Europe/Berlin:20260715T081500
DTEND;TZID=Europe/Berlin:20260715T091500
UID:26F12325N-20260715T081500@FBSWAIBLINGEN E.V.
SUMMARY:Aquafitness mit Musik (26F12325N) 
LOCATION:Hallenbad, Weinstadt-Strümpfelbach, Abendrain 2, , 
END:VEVENT
BEGIN:VEVENT
DTSTAMP:20260423T102839
DTSTART;TZID=Europe/Berlin:20260722T081500
DTEND;TZID=Europe/Berlin:20260722T091500
UID:26F12325N-20260722T081500@FBSWAIBLINGEN E.V.
SUMMARY:Aquafitness mit Musik (26F12325N) 
LOCATION:Hallenbad, Weinstadt-Strümpfelbach, Abendrain 2, , 
END:VEVENT
BEGIN:VEVENT
DTSTAMP:20260423T102839
DTSTART;TZID=Europe/Berlin:20260729T081500
DTEND;TZID=Europe/Berlin:20260729T091500
UID:26F12325N-20260729T081500@FBSWAIBLINGEN E.V.
SUMMARY:Aquafitness mit Musik (26F12325N) 
LOCATION:Hallenbad, Weinstadt-Strümpfelbach, Abendrain 2, , 
END:VEVENT
END:VCALENDAR