BEGIN:VCALENDAR
VERSION:2.0
PRODID:https://www.kufer.de/kuferweb / DE
METHOD:PUBLISH
CALSCALE:GREGORIAN
X-WR-TIMEZONE:Europe/Berlin
BEGIN:VTIMEZONE
TZID:Europe/Berlin
X-LIC-LOCATION:Europe/Berlin
BEGIN:DAYLIGHT
TZOFFSETFROM:+0100
TZOFFSETTO:+0200
TZNAME:CEST
DTSTART:19700329T020000
RRULE:FREQ=YEARLY;INTERVAL=1;BYDAY=-1SU;BYMONTH=3
END:DAYLIGHT
BEGIN:STANDARD
TZOFFSETFROM:+0200
TZOFFSETTO:+0100
TZNAME:CET
DTSTART:19701025T030000
RRULE:FREQ=YEARLY;INTERVAL=1;BYDAY=-1SU;BYMONTH=10
END:STANDARD
END:VTIMEZONE
BEGIN:VEVENT
DTSTAMP:20260423T190341
DTSTART;TZID=Europe/Berlin:20260610T193000
DTEND;TZID=Europe/Berlin:20260610T204500
UID:26F06220N-20260610T193000@FBSWAIBLINGEN E.V.
SUMMARY:NEU: Fit und Stark für Väter (26F06220N) 
LOCATION:fbs, Waiblingen, Alter Postplatz 17,Nähraum, 3. OG, Alter Postplatz 17, 71332 Waiblingen
END:VEVENT
BEGIN:VEVENT
DTSTAMP:20260423T190341
DTSTART;TZID=Europe/Berlin:20260617T193000
DTEND;TZID=Europe/Berlin:20260617T204500
UID:26F06220N-20260617T193000@FBSWAIBLINGEN E.V.
SUMMARY:NEU: Fit und Stark für Väter (26F06220N) 
LOCATION:fbs, Waiblingen, Alter Postplatz 17,Nähraum, 3. OG, Alter Postplatz 17, 71332 Waiblingen
END:VEVENT
BEGIN:VEVENT
DTSTAMP:20260423T190341
DTSTART;TZID=Europe/Berlin:20260624T193000
DTEND;TZID=Europe/Berlin:20260624T204500
UID:26F06220N-20260624T193000@FBSWAIBLINGEN E.V.
SUMMARY:NEU: Fit und Stark für Väter (26F06220N) 
LOCATION:fbs, Waiblingen, Alter Postplatz 17,Nähraum, 3. OG, Alter Postplatz 17, 71332 Waiblingen
END:VEVENT
BEGIN:VEVENT
DTSTAMP:20260423T190341
DTSTART;TZID=Europe/Berlin:20260701T193000
DTEND;TZID=Europe/Berlin:20260701T204500
UID:26F06220N-20260701T193000@FBSWAIBLINGEN E.V.
SUMMARY:NEU: Fit und Stark für Väter (26F06220N) 
LOCATION:fbs, Waiblingen, Alter Postplatz 17,Nähraum, 3. OG, Alter Postplatz 17, 71332 Waiblingen
END:VEVENT
BEGIN:VEVENT
DTSTAMP:20260423T190341
DTSTART;TZID=Europe/Berlin:20260708T193000
DTEND;TZID=Europe/Berlin:20260708T204500
UID:26F06220N-20260708T193000@FBSWAIBLINGEN E.V.
SUMMARY:NEU: Fit und Stark für Väter (26F06220N) 
LOCATION:fbs, Waiblingen, Alter Postplatz 17,Nähraum, 3. OG, Alter Postplatz 17, 71332 Waiblingen
END:VEVENT
BEGIN:VEVENT
DTSTAMP:20260423T190341
DTSTART;TZID=Europe/Berlin:20260715T193000
DTEND;TZID=Europe/Berlin:20260715T204500
UID:26F06220N-20260715T193000@FBSWAIBLINGEN E.V.
SUMMARY:NEU: Fit und Stark für Väter (26F06220N) 
LOCATION:fbs, Waiblingen, Alter Postplatz 17,Nähraum, 3. OG, Alter Postplatz 17, 71332 Waiblingen
END:VEVENT
BEGIN:VEVENT
DTSTAMP:20260423T190341
DTSTART;TZID=Europe/Berlin:20260722T193000
DTEND;TZID=Europe/Berlin:20260722T204500
UID:26F06220N-20260722T193000@FBSWAIBLINGEN E.V.
SUMMARY:NEU: Fit und Stark für Väter (26F06220N) 
LOCATION:fbs, Waiblingen, Alter Postplatz 17,Nähraum, 3. OG, Alter Postplatz 17, 71332 Waiblingen
END:VEVENT
BEGIN:VEVENT
DTSTAMP:20260423T190341
DTSTART;TZID=Europe/Berlin:20260729T193000
DTEND;TZID=Europe/Berlin:20260729T204500
UID:26F06220N-20260729T193000@FBSWAIBLINGEN E.V.
SUMMARY:NEU: Fit und Stark für Väter (26F06220N) 
LOCATION:fbs, Waiblingen, Alter Postplatz 17,Nähraum, 3. OG, Alter Postplatz 17, 71332 Waiblingen
END:VEVENT
END:VCALENDAR